BEGIN:VCALENDAR
VERSION:2.0
PRODID:Events Booking
BEGIN:VEVENT
UID:69e651fbc5004
SUMMARY:Under Pressure: Transition to Care
DESCRIPTION:AUT South Campus\, Auckland
 640 Great South Road\, Manukau Ci
 ty Centre
 Member price $80
 Non-member early bird $115 until 30 June\, 
 then $145&nbsp\; thereafter.
 Under Pressure: Transition to Care explores
  the continuum of pressure injury care from acute care to community settin
 gs\, highlighting the health professional’s critical role at every patie
 nt contact.This symposium will follow the patient journey from admission t
 hrough discharge and beyond\, examining risk identification\, early skin a
 ssessment\, staging accuracy\, and practical prevention strategies that wo
 rk in real-world settings. Participants will gain actionable tips and tric
 ks for managing high-risk patients and strengthening communication during 
 care transitions.With a strong focus on bridging acute and community care\
 , this symposium emphasises continuity\, collaboration\, and proactive ris
 k management to reduce preventable harm.
 Join us as we align best practi
 ces\, share frontline insights\, and reinforce our commitment to safer out
 comes.
 &nbsp\;
 A detailed agenda will be released once speakers are co
 nfirmed.
 &nbsp\;
 Thank&nbsp\;you to our Gold Sponsors for making this 
 event possible
 
DTSTART:20261001T193000Z
DTEND:20261002T033000Z
DTSTAMP:20260318T100450Z
ORGANIZER;CN=NZ Wound Care Society:MAILTO:administrator@nzwcs.org.nz
END:VEVENT
END:VCALENDAR